BEGIN:VCALENDAR
VERSION:2.0
PRODID:SFPL Web Calendar
BEGIN:VEVENT
UID:78267@sfpl.org
DTSTAMP:20240104T230000Z
DTSTART:20240104T230000Z
DTEND:20240105T000000Z
SUMMARY:Workshop: Lunar New Year Calligraphy Class 
DESCRIPTION:<p>Create and learn about Chinese calligraphy with Jojo Liu&nbsp;to celebrate the Lunar New Year (the Year of the Dragon). The&nbsp;instructor will&nbsp;teach the art of traditional Chinese calligraphy basics including holding a brush, writing basic storks, and New Year sayings.</p>
LOCATION:Excelsior - Excelsior Meeting Room
CLASS:PUBLIC
TRANSP:TRANSPARENT
END:VEVENT
BEGIN:VALARM
TRIGGER:-PT1440M
ACTION:DISPLAY
DESCRIPTION:Event Reminder - Workshop: Lunar New Year Calligraphy Class 
END:VALARM
END:VCALENDAR