BEGIN:VCALENDAR
VERSION:2.0
PRODID:SFPL Web Calendar
BEGIN:VEVENT
UID:78406@sfpl.org
DTSTAMP:20231221T181500Z
DTSTART:20231221T181500Z
DTEND:20231221T184500Z
SUMMARY:Cancelled: Storytime: For Toddlers Bilingual in Español/English
DESCRIPTION:<p>Space limited. Tickets available on a first come basis&nbsp;starting at 9:45 a.m.</p>
LOCATION:Mission
CLASS:PUBLIC
TRANSP:TRANSPARENT
END:VEVENT
BEGIN:VALARM
TRIGGER:-PT1440M
ACTION:DISPLAY
DESCRIPTION:Event Reminder - Cancelled: Storytime: For Toddlers Bilingual in Español/English
END:VALARM
END:VCALENDAR