BEGIN:VCALENDAR
VERSION:2.0
PRODID:SFPL Web Calendar
BEGIN:VEVENT
UID:78415@sfpl.org
DTSTAMP:20240131T230000Z
DTSTART:20240131T230000Z
DTEND:20240201T000000Z
SUMMARY:Workshop: Paper Quilts Inspired by Gee's Bend
DESCRIPTION:<p>Create a cooperative quilt and wall-hanging with upcycled paper or fabric scraps, using&nbsp;math, geometry and your imagination.</p>

<p>Inspired by Gee's Bend, a small, Black community just south of Selma, Alabama, where several generations of women collectively developed a distinctive style of quilt making.&nbsp;</p>

<p>For children 5 and older.</p>
LOCATION:Visitacion Valley - Visitacion Valley Meeting Room
CLASS:PUBLIC
TRANSP:TRANSPARENT
END:VEVENT
BEGIN:VALARM
TRIGGER:-PT1440M
ACTION:DISPLAY
DESCRIPTION:Event Reminder - Workshop: Paper Quilts Inspired by Gee's Bend
END:VALARM
END:VCALENDAR