BEGIN:VCALENDAR
VERSION:2.0
PRODID:SFPL Web Calendar
BEGIN:VEVENT
UID:78629@sfpl.org
DTSTAMP:20240103T233000Z
DTSTART:20240103T233000Z
DTEND:20240104T003000Z
SUMMARY:Workshop: Chinese Calligraphy
DESCRIPTION:<p>Learn the art of Chinese calligraphy in celebration of the Lunar New Year.&nbsp;Whether you're a beginner or have experience, you will learn how to hold the brush, master basic strokes, and create calligraphic artwork.&nbsp; For ages 8-18. Space limited. Reservations required: (415) 355-5648.</p>
LOCATION:Richmond/Senator Milton Marks - Richmond Children's Area
CLASS:PUBLIC
TRANSP:TRANSPARENT
END:VEVENT
BEGIN:VALARM
TRIGGER:-PT1440M
ACTION:DISPLAY
DESCRIPTION:Event Reminder - Workshop: Chinese Calligraphy
END:VALARM
END:VCALENDAR