BEGIN:VCALENDAR
VERSION:2.0
PRODID:SFPL Web Calendar
BEGIN:VEVENT
UID:79428@sfpl.org
DTSTAMP:20231230T190000Z
DTSTART:20231230T190000Z
DTEND:20231230T200000Z
SUMMARY:Activity: Tinker Saturday
DESCRIPTION:<p>Explore robotics with Lego Mindstorm.&nbsp; Create and program your own insect or bug bots.&nbsp; &nbsp;&nbsp;</p>
LOCATION:West Portal - West Portal Children's Area
CLASS:PUBLIC
TRANSP:TRANSPARENT
END:VEVENT
BEGIN:VALARM
TRIGGER:-PT1440M
ACTION:DISPLAY
DESCRIPTION:Event Reminder - Activity: Tinker Saturday
END:VALARM
END:VCALENDAR