BEGIN:VCALENDAR
VERSION:2.0
PRODID:SFPL Web Calendar
BEGIN:VEVENT
UID:80504@sfpl.org
DTSTAMP:20231230T220000Z
DTSTART:20231230T220000Z
DTEND:20231230T230000Z
SUMMARY:Workshop: Learn to Play Afro-Cuban Percussion Rhythms
DESCRIPTION:<p>Celebrate LatinX heritage and learn to play the basic drum and percussion rhythms of Afro-Cuban music. All instruments provided and no musical experience is necessary.&nbsp;For ages 12&ndash;18.</p>
LOCATION:Main Library - Mix: Audio - 2nd Fl
CLASS:PUBLIC
TRANSP:TRANSPARENT
END:VEVENT
BEGIN:VALARM
TRIGGER:-PT1440M
ACTION:DISPLAY
DESCRIPTION:Event Reminder - Workshop: Learn to Play Afro-Cuban Percussion Rhythms
END:VALARM
END:VCALENDAR