BEGIN:VCALENDAR
VERSION:2.0
PRODID:SFPL Web Calendar
BEGIN:VEVENT
UID:80993@sfpl.org
DTSTAMP:20231217T210000Z
DTSTART:20231217T210000Z
DTEND:20231217T223000Z
SUMMARY:Film: Shrek en español
DESCRIPTION:<p>&Uacute;nase a nosotros para una proyecci&oacute;n&nbsp;de Shrek, presentado en espa&ntilde;ol en el hist&oacute;rico <a href="https://roxie.com/">Teatro Roxie</a>, ubicado en las calles 16 y Valencia. La entrada es gratuita, pero los asientos est&aacute;n disponibles por orden de llegada. Este programa es presentado por RoxCine en conjunto con la Biblioteca P&uacute;blica de San Francisco.</p>

<p>Join us for a free screening of Shrek, presented in Spanish, at the historic <a href="https://roxie.com/">Roxie Theater</a>, located at 16th and Valencia streets.&nbsp;Admission is free, but seating is available on a first-come, first-served basis.&nbsp;This program is presented by RoxCine in conjunction with the San Francisco Public Library.&nbsp;In Spanish with English subtitles.</p>

<p>PG, 90 mins., 2001. In Spanish with English subtitles.&nbsp;</p>

<p>&nbsp;</p>
LOCATION:Mission
CLASS:PUBLIC
TRANSP:TRANSPARENT
END:VEVENT
BEGIN:VALARM
TRIGGER:-PT1440M
ACTION:DISPLAY
DESCRIPTION:Event Reminder - Film: Shrek en español
END:VALARM
END:VCALENDAR