BEGIN:VCALENDAR
VERSION:2.0
PRODID:SFPL Web Calendar
BEGIN:VEVENT
UID:81680@sfpl.org
DTSTAMP:20231228T230000Z
DTSTART:20231228T230000Z
DTEND:20231229T000000Z
SUMMARY:Activity: Crafternoon
DESCRIPTION:<p>Explore your creative side with a&nbsp;craft project or get creative with your own project. For children and their families.</p>
LOCATION:Ocean View - Ocean View Meeting Room
CLASS:PUBLIC
TRANSP:TRANSPARENT
END:VEVENT
BEGIN:VALARM
TRIGGER:-PT1440M
ACTION:DISPLAY
DESCRIPTION:Event Reminder - Activity: Crafternoon
END:VALARM
END:VCALENDAR