BEGIN:VCALENDAR
VERSION:2.0
PRODID:SFPL Web Calendar
BEGIN:VEVENT
UID:82547@sfpl.org
DTSTAMP:20240106T183000Z
DTSTART:20240106T183000Z
DTEND:20240106T193000Z
SUMMARY:Workshop: Makerspace Saturdays
DESCRIPTION:<p>Make Lunar New Year themed&nbsp;crafts.&nbsp;</p>
LOCATION:Parkside - Parkside Children's Area
CLASS:PUBLIC
TRANSP:TRANSPARENT
END:VEVENT
BEGIN:VALARM
TRIGGER:-PT1440M
ACTION:DISPLAY
DESCRIPTION:Event Reminder - Workshop: Makerspace Saturdays
END:VALARM
END:VCALENDAR