BEGIN:VCALENDAR
VERSION:2.0
PRODID:SFPL Web Calendar
BEGIN:VEVENT
UID:94109@sfpl.org
DTSTAMP:20240914T233000Z
DTSTART:20240914T233000Z
DTEND:20240915T004500Z
SUMMARY:Presentation: Berkeley Rep Docent Talk on Mexodus
DESCRIPTION:<p>A Berkeley Repertory&nbsp;Theatre docent talk about the musical <em>Mexodus</em> will cover the musical's production and its historical inspiration: the often untold stories of the Underground Railroad that led south into Mexico. Attendees do not need to have seen the musical in order to enjoy the talk and group discussion.</p>

<p>History meets hip-hop in&nbsp;<em>Mexodus</em>, an electrifying live-looping musical, composed in real-time by multi-talented writer/performers Brian Quijada and Nygel D. Robinson. This is a groundbreaking, theatrical experience of resilience and resistance, celebrating the power of Black and Brown solidarity.</p>

<p><em>Mexodus </em>is written and performed by Brian Quijada and Nygel D. Robinson and is directed by Berkeley Rep's Associate Director David Mendiz&aacute;bal who also directed the production of&nbsp;<em>Mexodus&nbsp;</em>for Mosaic Theater Company in Washington, D.C. Mexodus will run at Berkeley Rep from September 13th through October 20th.</p>

<p><a href="https://www.berkeleyrep.org/">Berkeley Repertory Theatre &ndash; Website</a> | <a href="https://www.instagram.com/berkeleyrep/">Berkeley Repertory Theatre &ndash; Instagram</a> | <a href="https://www.facebook.com/berkeleyrep">Berkeley Repertory Theatre &ndash; Facebook</a> | <a href="https://www.youtube.com/user/berkeleyrep">Berkeley Repertory Theatre &ndash; YouTube</a> | <a href="https://www.tiktok.com/@berkeleyrep">Berkeley Repertory Theatre &ndash; TikTok</a> | <a href="https://www.tiktok.com/@berkeleyrep">Berkeley Repertory Theatre &ndash; X (Twitter)</a></p>
LOCATION:Main Library - Learning Studio - 5th Fl
CLASS:PUBLIC
TRANSP:TRANSPARENT
END:VEVENT
BEGIN:VALARM
TRIGGER:-PT1440M
ACTION:DISPLAY
DESCRIPTION:Event Reminder - Presentation: Berkeley Rep Docent Talk on Mexodus
END:VALARM
END:VCALENDAR