BEGIN:VCALENDAR
VERSION:2.0
PRODID:SFPL Web Calendar
BEGIN:VEVENT
UID:96309@sfpl.org
DTSTAMP:20240908T220000Z
DTSTART:20240908T220000Z
DTEND:20240908T230000Z
SUMMARY:Workshop: Crafting in the Castro
DESCRIPTION:<p>Turn air dry clay into mugs, coasters, ring holders, odds & ends dishes, small sculptures or whatever takes your fancy.</p>

<p>Space is limited to first 15 participants to arrive.</p>
LOCATION:Eureka Valley/Harvey Milk Memorial - Eureka Valley General Floor Area
CLASS:PUBLIC
TRANSP:TRANSPARENT
END:VEVENT
BEGIN:VALARM
TRIGGER:-PT1440M
ACTION:DISPLAY
DESCRIPTION:Event Reminder - Workshop: Crafting in the Castro
END:VALARM
END:VCALENDAR