BEGIN:VCALENDAR
VERSION:2.0
PRODID:SFPL Web Calendar
BEGIN:VEVENT
UID:97451@sfpl.org
DTSTAMP:20250104T220000Z
DTSTART:20250104T220000Z
DTEND:20250104T233000Z
SUMMARY:Book Club: Chanel Miller's Magnolia Wu Unfolds It All
DESCRIPTION:<p>Discuss local author Chanel Miller's <a href="https://sfpl.bibliocommons.com/v2/record/S93C6199519"><i>Magnolia Wu Unfolds It All</i></a>, enjoy refreshments and treats related to the book's plot.&nbsp;</p><p>Copies of the book will be available for checkout at the Visitacion Valley reference desk beginning November 1. For ages 9–12.&nbsp;</p>
LOCATION:Visitacion Valley - Visitacion Valley Meeting Room
CLASS:PUBLIC
TRANSP:TRANSPARENT
END:VEVENT
BEGIN:VALARM
TRIGGER:-PT1440M
ACTION:DISPLAY
DESCRIPTION:Event Reminder - Book Club: Chanel Miller's Magnolia Wu Unfolds It All
END:VALARM
END:VCALENDAR