BEGIN:VCALENDAR
VERSION:2.0
PRODID:SFPL Web Calendar
BEGIN:VEVENT
UID:97908@sfpl.org
DTSTAMP:20250510T213000Z
DTSTART:20250510T213000Z
DTEND:20250510T230000Z
SUMMARY:Workshop: A.I. Robots, A Hands-On Introduction
DESCRIPTION:<p>&nbsp;With mbots you will have fun learning about cool robots. Work in small groups and learn how different parts of the robot work together so it can move and do tasks all by itself.&nbsp; While there, say “hello” to Stretch, a friendly mobile robot from Hello Robot Inc., designed to help people with everyday activities and empower them to live life to the fullest. With its A.I. features,&nbsp;Stretch&nbsp;can learn to perform tasks. You'll get the chance to interact with&nbsp;Stretch&nbsp;using fun interfaces like A.I., game controllers, and mobile devices to control its movements and complete exciting activities.&nbsp; For ages 8 and older.</p><p>This event is part of <a href="https://sfpl.org/locations/main-library/bridge-main-5th-floor/sf-tech-week">SF Tech Week</a>.</p>
LOCATION:Main Library - Latino/Hispanic Meeting Room A
CLASS:PUBLIC
TRANSP:TRANSPARENT
END:VEVENT
BEGIN:VALARM
TRIGGER:-PT1440M
ACTION:DISPLAY
DESCRIPTION:Event Reminder - Workshop: A.I. Robots, A Hands-On Introduction
END:VALARM
END:VCALENDAR