BEGIN:VCALENDAR
VERSION:2.0
PRODID:SFPL Web Calendar
BEGIN:VEVENT
UID:98794@sfpl.org
DTSTAMP:20250104T190000Z
DTSTART:20250104T190000Z
DTEND:20250104T210000Z
SUMMARY:Activity: Tinker Toys Building Blocks
DESCRIPTION:<p>Engineer your own creations and test your building skills using Tinker Toys building set. For ages 3 and older.&nbsp;</p>
LOCATION:Excelsior - Excelsior Children's Area
CLASS:PUBLIC
TRANSP:TRANSPARENT
END:VEVENT
BEGIN:VALARM
TRIGGER:-PT1440M
ACTION:DISPLAY
DESCRIPTION:Event Reminder - Activity: Tinker Toys Building Blocks
END:VALARM
END:VCALENDAR