BEGIN:VCALENDAR
VERSION:2.0
PRODID:SFPL Web Calendar
BEGIN:VEVENT
UID:99830@sfpl.org
DTSTAMP:20241031T220000Z
DTSTART:20241031T220000Z
DTEND:20241101T000000Z
SUMMARY:Activity: Fantasy Face-Painting
DESCRIPTION:<p>Enjoy your own fantasy for the day with the extraordinary artistic face-painting of Joan Helgeson of Fog City Faces.</p>
LOCATION:Bernal Heights - Bernal Heights Children's Area
CLASS:PUBLIC
TRANSP:TRANSPARENT
END:VEVENT
BEGIN:VALARM
TRIGGER:-PT1440M
ACTION:DISPLAY
DESCRIPTION:Event Reminder - Activity: Fantasy Face-Painting
END:VALARM
END:VCALENDAR