BEGIN:VCALENDAR
VERSION:2.0
PRODID:SFPL Web Calendar
BEGIN:VEVENT
UID:99821@sfpl.org
DTSTAMP:20251005T193000Z
DTSTART:20251005T193000Z
DTEND:20251006T000000Z
SUMMARY:Celebration: Tachyon Publications 30th Anniversary Party and Reading
DESCRIPTION:<p><a href="https://tachyonpublications.com/">Tachyon Publications</a>, a San Francisco-based publisher of science fiction and fantasy books, is celebrating its 30th anniversary. The party will begin at 12:30pm in the Koret Lobby with light refreshments, and Tachyon authors <a href="https://beagleverse.com/">Peter S. Beagle</a>, <a href="https://patmurphy.net/">Pat Murphy</a> and others will be in attendance. Then at 3pm, the Koret Auditorium will open for a special appearance and readings by authors <a href="https://www.joerlansdale.com/">Joe R. Lansdale</a> (<a href="https://sfpl.bibliocommons.com/v2/record/S93C3205531"><i>Hap and Leonard</i></a>, <a href="https://sfpl.bibliocommons.com/v2/record/S93C2304515"><i>Bubba Ho-Tep</i></a>) and <a href="https://samtasticbooks.com/">Samantha Mills</a> (<a href="https://sfpl.bibliocommons.com/v2/record/S93C6224896"><i>The Wings Upon Her Back</i></a>), courtesy of <a href="https://www.sfinsf.org/">SF in SF</a> Events, the reading series sponsored by Tachyon Publications.</p><p>This event coincides with the exhibit <a href="https://sfpl.org/exhibits/2025/09/19/30-years-tachyon-publications"><i>30 Years of Tachyon Publications</i></a>, on the 3rd Floor of the Main Library in the <a href="https://sfpl.org/locations/main-library/general-collections">Humanities Center</a>. The exhibit runs from September 19 to November 20, 2025, and includes books, manuscripts, awards, photos and more documenting the company’s extraordinary history.</p><p>Tachyon champions the creative storytelling of authors who inspire through intelligent prose and imaginative worlds. Tachyon books have received Hugo, Nebula, World Fantasy, Sturgeon, Mythopoeic, Locus, Endeavor, Grand Prix de l’Imaginaire, Endeavor, Neukom, Sidewise, and Philip K. Dick awards. You can learn more online at <a href="https://tachyonpublications.com/">www.tachyonpublications.com</a> and <a href="https://www.sfinsf.org/">www.sfinsf.org</a>.</p>
LOCATION:Main Library - Koret Auditorium
CLASS:PUBLIC
TRANSP:TRANSPARENT
END:VEVENT
BEGIN:VALARM
TRIGGER:-PT1440M
ACTION:DISPLAY
DESCRIPTION:Event Reminder - Celebration: Tachyon Publications 30th Anniversary Party and Reading
END:VALARM
END:VCALENDAR