BEGIN:VCALENDAR
VERSION:2.0
PRODID:SFPL Web Calendar
BEGIN:VEVENT
UID:151803@sfpl.org
DTSTAMP:20260526T220000Z
DTSTART:20260526T220000Z
DTEND:20260526T230000Z
SUMMARY:Activity: The Grocery List Show and Snack Tasting
DESCRIPTION:<p>Watch <a href="https://www.pbs.org/independentlens/documentaries/the-grocery-list-show/"><i>The Grocery List Show</i></a><i> </i>from Independent Lens and try pantry snacks from international grocery stores.&nbsp;</p><p>Hosted by <i>Top Chef</i> contender Chrissy Camba, <i>The Grocery List Show</i> is a trip to five bustling international grocery stores in America and the communities they serve. Special guests and food enthusiasts join Chrissy to shop for ingredients and cook a favorite family recipe, as they celebrate global food traditions over a shared meal. (NR, 50 mins., 2026. Closed captions (CC) in English.)&nbsp; &nbsp;</p><p>Space limited. Reservations required: (415) 355-2880 or <a href="https://forms.office.com/g/uwcv1VK2XE">online</a>.&nbsp;</p>
LOCATION:Presidio - Presidio Meeting Room
CLASS:PUBLIC
TRANSP:TRANSPARENT
END:VEVENT
BEGIN:VALARM
TRIGGER:-PT1440M
ACTION:DISPLAY
DESCRIPTION:Event Reminder - Activity: The Grocery List Show and Snack Tasting
END:VALARM
END:VCALENDAR