BEGIN:VCALENDAR
VERSION:2.0
PRODID:SFPL Web Calendar
BEGIN:VEVENT
UID:28309@sfpl.org
DTSTAMP:20201009T070001Z
DTSTART:20201009T070001Z
DTEND:20220124T075959Z
SUMMARY:Online Exhibit: Alternative Voices
DESCRIPTION:<p>Explore this <a href="https://sfpl.org/exhibits/alternative-voices">online exhibit</a> to see&nbsp;a sample of the 16 interviews and over 40 photographs that will be on view in the exhibit&nbsp;<em><a href="https://sfpl.org/exhibits/2021/10/09/alternative-voices">Alternative Voices</a></em>&nbsp;in the Main Library's Jewett Gallery — opening date October 9, 2021.</p>

<p><em>Image, above:&nbsp;Stannous Flouride in the Financial District, Montgomery BART Station, 1980. Photograph by Jeanne M. Hansen.</em></p>

LOCATION:Virtual Library
CLASS:PUBLIC
TRANSP:TRANSPARENT
END:VEVENT
BEGIN:VALARM
TRIGGER:-PT1440M
ACTION:DISPLAY
DESCRIPTION:Event Reminder - Online Exhibit: Alternative Voices
END:VALARM
END:VCALENDAR