BEGIN:VCALENDAR
VERSION:2.0
PRODID:SFPL Web Calendar
BEGIN:VEVENT
UID:132240@sfpl.org
DTSTAMP:20251206T220000Z
DTSTART:20251206T220000Z
DTEND:20251207T010000Z
SUMMARY:Social: Clement Street Small Business Stroll 
DESCRIPTION:<p>Enjoy an afternoon of community, connection and commerce at the Clement Street Small Business Stroll. This guided walk will spotlight 6 locally owned businesses, each offering a unique look into their story, products and services.&nbsp;&nbsp;</p><p>At each stop, enjoy a short interview with the business owner followed by time to explore, shop and engage with neighbors. Many participating businesses will offer exclusive discounts or special promotions just for event guests. Stay until the end for a chance to win raffle prizes from the featured businesses!&nbsp;</p><p>Meet at the Richmond Branch (351 9th Avenue) at 2 pm. The event will take place rain or shine.&nbsp;&nbsp;</p><p>2:00 —&nbsp;Meet at Richmond Branch (351 9th&nbsp;Ave)</p><p>2:15 — <a href="https://fleetwoodsf.com/">Fleetwood</a>&nbsp;(714 Clement St)</p><p>2:45 — <a href="https://greenapplebooks.com/clement-st-location">Green Apple Books</a>&nbsp;(506 Clement St)</p><p>3:15 — <a href="https://shoptantrum.com/">Tantrum</a>&nbsp;(248 Clement St)</p><p>3:45 — <a href="https://aromateashop.com/">Aroma Tea Shop</a>&nbsp;(302 6th&nbsp;Ave)</p><p>4:15 — <a href="https://schubertsbakery.com/">Schubert's Bakery</a>&nbsp;(521 Clement St)</p><p>4:45 — <a href="https://www.thebitterendsf.com/">The Bitter End</a>&nbsp;(441 Clement St)</p><p>Presented by the San Francisco Public Library's <a href="https://sfpl.org/locations/main-library/small-business-center">Small Business Center</a> and <a href="https://sfpl.org/locations/richmond">Richmond Branch</a>!&nbsp;</p><p>&nbsp;</p>
LOCATION:Richmond/Senator Milton Marks - Richmond Meeting Room
CLASS:PUBLIC
TRANSP:TRANSPARENT
END:VEVENT
BEGIN:VALARM
TRIGGER:-PT1440M
ACTION:DISPLAY
DESCRIPTION:Event Reminder - Social: Clement Street Small Business Stroll 
END:VALARM
END:VCALENDAR