BEGIN:VCALENDAR
VERSION:2.0
PRODID:SFPL Web Calendar
BEGIN:VEVENT
UID:34182@sfpl.org
DTSTAMP:20211210T000000Z
DTSTART:20211210T000000Z
DTEND:20211210T004500Z
SUMMARY:Workshop: Wearable Plushie Flair
DESCRIPTION:<p>Create a wearable plushie accessory by using hand sewing, embroidery and fabric marker techniques. Whether it's an animal, an alien or abstract design&mdash;attach the finished product to a pin, keychain or lanyard for extra fluffy flair. For ages 10&ndash;18.</p>

<p><a href="https://youtu.be/-VKwB58CR9Q"><strong>Watch on YouTube.</strong></a></p>

<p>Register for T(w)een Winter Read and visit a participating library location (Anza, Bayview, Bernal Heights, Eureka Valley, Excelsior, Glen Park, Golden Gate Valley, Ingleside, Main, Marina, Merced, Mission, Noe Valley, North Beach, Ocean View, Ortega, Park, Parkside, Portola, Richmond, Sunset, The Mix, Visitacion Valley and West Portal) for a MakeArt kit&nbsp;with all necessary tools, materials and instructions.&nbsp;<strong>Supplies are limited.</strong>&nbsp;This program is inspired by artworks featured in current fashion exhibition, <em>Mode Brut</em>, at The Museum of Craft and Design.</p>

<p><strong>Materials:</strong></p>

<p>Felt Fabric&nbsp; (2; 6&rsquo;&rsquo;x 6&rsquo;&rsquo;)<br />
Embroidery floss (2)<br />
Embroidery needle<br />
Sharpie<br />
Scissors<br />
Buttons (2)<br />
Polyester fiber<br />
Lanyard<br />
Metal Pin</p>

<p><a href="https://sfmcd.org/">The Museum of Craft and Design - Website</a></p>

<p><a href="https://sfpl.org/tween-winter-read">T(w)een Winter Read - Website</a></p>
LOCATION:Virtual Library
CLASS:PUBLIC
TRANSP:TRANSPARENT
END:VEVENT
BEGIN:VALARM
TRIGGER:-PT1440M
ACTION:DISPLAY
DESCRIPTION:Event Reminder - Workshop: Wearable Plushie Flair
END:VALARM
END:VCALENDAR