BEGIN:VCALENDAR
VERSION:2.0
PRODID:SFPL Web Calendar
BEGIN:VEVENT
UID:64260@sfpl.org
DTSTAMP:20230525T233000Z
DTSTART:20230525T233000Z
DTEND:20230526T030000Z
SUMMARY:Library Commission Meeting
DESCRIPTION:<p>&nbsp;</p>

<ul>
	<li><a href="https://sfpl.org/sites/default/files/2023-05/Library-commission-agenda-2023-05-25.pdf">May 25th Meeting Agenda</a>

	<ul>
		<li><a href="https://sfpl.org/sites/default/files/2023-05/ITEM-2.-DRAFT-Commission-MINUTES-APRIL-20-2023.pdf">Item 2 April 20, 2023&nbsp;Draft Minutes</a></li>
		<li><a href="https://sfpl.org/sites/default/files/2023-05/ITEM-3.-Branch-Capital-Projects-LIFT-Update.pdf">Item 3 Branch Capital Projects LIFT Update</a></li>
		<li><a href="https://sfpl.org/sites/default/files/2023-05/ITEM-4.1-Dia-Commission-Presentation.pdf">Item 4.1 D&iacute;a de los Ni&ntilde;os/D&iacute;a de los Libros Presentation</a></li>
		<li><a href="https://sfpl.org/sites/default/files/2023-05/ITEM-4.2-Summer-Stride-2023-LC.pdf">Item 4.2 Summer Stride Overview Presentation</a></li>
	</ul>
	</li>
</ul>

<h3>WATCH and PUBLIC COMMENT</h3>

<p><a href="http://on.sfpl.org/SFPLCommissionMeeting">Remote Meeting Access</a></p>

<h3>LISTEN and PUBLIC COMMENT CALL-IN</h3>

<p>Dial in to 1-415-655-0001 or 1-408-418-9388<br />
Access code:&nbsp;2597 061 4854</p>

<p>&nbsp;</p>
LOCATION:Main Library - Koret Auditorium
CLASS:PUBLIC
TRANSP:TRANSPARENT
END:VEVENT
BEGIN:VALARM
TRIGGER:-PT1440M
ACTION:DISPLAY
DESCRIPTION:Event Reminder - Library Commission Meeting
END:VALARM
END:VCALENDAR